BEGIN:VCALENDAR
VERSION:2.0
PRODID:-//Ireland Japan Association - ECPv4.5.4//NONSGML v1.0//EN
CALSCALE:GREGORIAN
METHOD:PUBLISH
X-WR-CALNAME:Ireland Japan Association
X-ORIGINAL-URL:https://ija.ie
X-WR-CALDESC:Events for Ireland Japan Association
BEGIN:VEVENT
DTSTART;TZID=Europe/London:20160906T180000
DTEND;TZID=Europe/London:20160927T193000
DTSTAMP:20171103T113856
CREATED:20160726T160234Z
LAST-MODIFIED:20160726T160234Z
UID:152-1473184800-1475004600@ija.ie
SUMMARY:IJA Japanese Language Class Series
DESCRIPTION:Introduction to Business Japanese\n\nLooking to impress a Japanese client a meeting? Upcoming business trip to Japan? Then the IJA is delighted to invite you to a series of business-centric Japanese Language Classes this September. The classes will be hosted on Tuesday evenings in the heart of Dublin’s CBD by native Japanese and long-term Irish resident Mr. Tetsuo Hirohama\, a fully qualified teacher at all levels and founding member of the Japanese Language Teacher’s Association of Ireland. Medium of instruction to be English. Some knowledge of Japanese useful but not essential - this is an Introductory level class. Places are limited so book early to avoid disappointment!\n\nTime & Date : Each Tuesday in September – 6th\, 13th \, 20th and 27th. Classes will be 90 mins in duration and will be held from 6pm to 7:30 pm.\n\nCost for Members : 60 Euro for 4 week course\nCost for Non-Members: 100 Euro for 4 week course
URL:https://ija.ie/event/ija-japanese-language-class-series/
LOCATION:33 Sir John Rogerson’s Quay\,\, Dublin 2\, Ireland
CATEGORIES:Business
ATTACH;FMTTYPE=image/png:https://ija.ie/wp-content/uploads/2016/07/japanese.png
END:VEVENT
END:VCALENDAR